BEGIN:VCALENDAR
VERSION:2.0
PRODID:-//Spanning the Life Issues - ECPv6.15.20//NONSGML v1.0//EN
CALSCALE:GREGORIAN
METHOD:PUBLISH
X-WR-CALNAME:Spanning the Life Issues
X-ORIGINAL-URL:https://www.rtlstjoseph.com
X-WR-CALDESC:Events for Spanning the Life Issues
REFRESH-INTERVAL;VALUE=DURATION:PT1H
X-Robots-Tag:noindex
X-PUBLISHED-TTL:PT1H
BEGIN:VTIMEZONE
TZID:America/Halifax
BEGIN:DAYLIGHT
TZOFFSETFROM:-0400
TZOFFSETTO:-0300
TZNAME:ADT
DTSTART:20230312T060000
END:DAYLIGHT
BEGIN:STANDARD
TZOFFSETFROM:-0300
TZOFFSETTO:-0400
TZNAME:AST
DTSTART:20231105T050000
END:STANDARD
BEGIN:DAYLIGHT
TZOFFSETFROM:-0400
TZOFFSETTO:-0300
TZNAME:ADT
DTSTART:20240310T060000
END:DAYLIGHT
BEGIN:STANDARD
TZOFFSETFROM:-0300
TZOFFSETTO:-0400
TZNAME:AST
DTSTART:20241103T050000
END:STANDARD
BEGIN:DAYLIGHT
TZOFFSETFROM:-0400
TZOFFSETTO:-0300
TZNAME:ADT
DTSTART:20250309T060000
END:DAYLIGHT
BEGIN:STANDARD
TZOFFSETFROM:-0300
TZOFFSETTO:-0400
TZNAME:AST
DTSTART:20251102T050000
END:STANDARD
END:VTIMEZONE
BEGIN:VEVENT
DTSTART;TZID=America/Halifax:20240816T000000
DTEND;TZID=America/Halifax:20240817T235959
DTSTAMP:20260419T231509
CREATED:20240215T211833Z
LAST-MODIFIED:20260408T185322Z
UID:945-1723766400-1723939199@www.rtlstjoseph.com
SUMMARY:Mendon Riverfest 2024
DESCRIPTION:Location: Reed Riverside Park (Google map\, Bing map\, OpenStreetMap) \n\n\n\nCome visit our table! \n\n\n\n\n\n\n\n\n\nView Larger Map
URL:https://www.rtlstjoseph.com/event/mendon-riverfest-2024/
LOCATION:Reed Riverside Park\, Mendon\, 126 S Nottawa St\, Mendon\, MI\, 49072\, United States
CATEGORIES:Community Event,Past
ATTACH;FMTTYPE=image/jpeg:https://www.rtlstjoseph.com/wp-content/uploads/2023/05/riverTreesColor.jpg
END:VEVENT
END:VCALENDAR