BEGIN:VCALENDAR
VERSION:2.0
PRODID:-//Spanning the Life Issues - ECPv6.15.20//NONSGML v1.0//EN
CALSCALE:GREGORIAN
METHOD:PUBLISH
X-WR-CALNAME:Spanning the Life Issues
X-ORIGINAL-URL:https://www.rtlstjoseph.com
X-WR-CALDESC:Events for Spanning the Life Issues
REFRESH-INTERVAL;VALUE=DURATION:PT1H
X-Robots-Tag:noindex
X-PUBLISHED-TTL:PT1H
BEGIN:VTIMEZONE
TZID:America/Halifax
BEGIN:DAYLIGHT
TZOFFSETFROM:-0400
TZOFFSETTO:-0300
TZNAME:ADT
DTSTART:20230312T060000
END:DAYLIGHT
BEGIN:STANDARD
TZOFFSETFROM:-0300
TZOFFSETTO:-0400
TZNAME:AST
DTSTART:20231105T050000
END:STANDARD
BEGIN:DAYLIGHT
TZOFFSETFROM:-0400
TZOFFSETTO:-0300
TZNAME:ADT
DTSTART:20240310T060000
END:DAYLIGHT
BEGIN:STANDARD
TZOFFSETFROM:-0300
TZOFFSETTO:-0400
TZNAME:AST
DTSTART:20241103T050000
END:STANDARD
BEGIN:DAYLIGHT
TZOFFSETFROM:-0400
TZOFFSETTO:-0300
TZNAME:ADT
DTSTART:20250309T060000
END:DAYLIGHT
BEGIN:STANDARD
TZOFFSETFROM:-0300
TZOFFSETTO:-0400
TZNAME:AST
DTSTART:20251102T050000
END:STANDARD
END:VTIMEZONE
BEGIN:VEVENT
DTSTART;TZID=America/Halifax:20240719T000000
DTEND;TZID=America/Halifax:20240721T235959
DTSTAMP:20260420T010256
CREATED:20240215T214441Z
LAST-MODIFIED:20260408T204635Z
UID:954-1721347200-1721606399@www.rtlstjoseph.com
SUMMARY:Covered Bridge Days 2024
DESCRIPTION:Come visit our booth downtown! \n\n\n\nWe will have an information table on Friday\, July 19th and Saturday\, July 20th.
URL:https://www.rtlstjoseph.com/event/covered-bridge-days-2024/
CATEGORIES:Community Event,Past
ATTACH;FMTTYPE=image/jpeg:https://www.rtlstjoseph.com/wp-content/uploads/2023/05/DSCF0851.jpg
END:VEVENT
END:VCALENDAR