BEGIN:VCALENDAR
VERSION:2.0
PRODID:-//Spanning the Life Issues - ECPv6.15.20//NONSGML v1.0//EN
CALSCALE:GREGORIAN
METHOD:PUBLISH
X-WR-CALNAME:Spanning the Life Issues
X-ORIGINAL-URL:https://www.rtlstjoseph.com
X-WR-CALDESC:Events for Spanning the Life Issues
REFRESH-INTERVAL;VALUE=DURATION:PT1H
X-Robots-Tag:noindex
X-PUBLISHED-TTL:PT1H
BEGIN:VTIMEZONE
TZID:America/Detroit
BEGIN:DAYLIGHT
TZOFFSETFROM:-0500
TZOFFSETTO:-0400
TZNAME:EDT
DTSTART:20230312T070000
END:DAYLIGHT
BEGIN:STANDARD
TZOFFSETFROM:-0400
TZOFFSETTO:-0500
TZNAME:EST
DTSTART:20231105T060000
END:STANDARD
BEGIN:DAYLIGHT
TZOFFSETFROM:-0500
TZOFFSETTO:-0400
TZNAME:EDT
DTSTART:20240310T070000
END:DAYLIGHT
BEGIN:STANDARD
TZOFFSETFROM:-0400
TZOFFSETTO:-0500
TZNAME:EST
DTSTART:20241103T060000
END:STANDARD
BEGIN:DAYLIGHT
TZOFFSETFROM:-0500
TZOFFSETTO:-0400
TZNAME:EDT
DTSTART:20250309T070000
END:DAYLIGHT
BEGIN:STANDARD
TZOFFSETFROM:-0400
TZOFFSETTO:-0500
TZNAME:EST
DTSTART:20251102T060000
END:STANDARD
END:VTIMEZONE
BEGIN:VEVENT
DTSTART;TZID=America/Detroit:20241105T000000
DTEND;TZID=America/Detroit:20241105T235959
DTSTAMP:20260419T215521
CREATED:20240213T004214Z
LAST-MODIFIED:20260408T185322Z
UID:894-1730764800-1730851199@www.rtlstjoseph.com
SUMMARY:Election Day
DESCRIPTION:Please Vote! \n\n\n\n\n\n\nSee a list of RLM’s endorsements here.
URL:https://www.rtlstjoseph.com/event/election-day/
CATEGORIES:Event,Past
ATTACH;FMTTYPE=image/jpeg:https://www.rtlstjoseph.com/wp-content/uploads/2023/05/USflag.jpg
END:VEVENT
END:VCALENDAR